BEGIN:VCALENDAR
VERSION:2.0
PRODID:-//hacksw/handcal//NONSGML v1.0//EN
BEGIN:VEVENT
SUMMARY:Rallye surprise  Va7
UID:39b1116c-1bda-46c8-93c4-a33e59ae3765
DTSTART:20260523T063000Z
DTEND:20260523T130000Z
LOCATION:Localisation   
CATEGORIES:Sportif
STATUS:
DESCRIPTION:<p>Inscriptions avant le 1er Mai:</p>
 
 <p>Par e-mail a :
 vagueasete@gmail.com </p>
 
 <p>Et paiement via : Helloasso, 10€
 Adherent 15€  exterieur </p>
 
 <p>RAPPEL</p>
 
 <p>Rallye surprise
 "Vague a Sete" : <br />
 ...Preparez vos boussoles et vos meninges
 !</p>
 
 <p>🗓️ Date 23 mai 2026 <br />
       SAVE THE DATE
 !</p>
 
 <p>Salut a tous ! Prets pour une matinee de defis, de rires et
 de decouvertes ? "Vague a Sete" vous embarque dans une aventure
 inedite au depart de Sete ou votre flair et vos mollets seront vos
 meilleurs allies.<br />
 🚗 Le Concept<br />
 Par equipe de 3 a 5
 personnes (en mode covoiturage), vous devrez braver des etapes
 mysteres, d'abord en voiture, ensuite a pied.<br />
 L’Epopee
 Motorisee (env. 2h) : Vous suivrez un parcours surprise en resolvant
 des enigmes pour trouver vos points de passage. Pas de panique, des
 indices seront dispos si vous tournez trop en rond
 !</p>
 
 <p>L’Odyssee Pedestre (env. 2h de marche) : Lachez le volant
 et sortez la carte IGN. Il faudra rallier les points de passage a la
 boussole et a la force des jambes.</p>
 
 <p>Contact : Denis
 0677446896</p>
 
 <p>Fiche d'inscription a renvoyer a :
 vagueasete@gmail.com</p>
 
 <p>Au minimum 2 personnes, les autres
 pourront s’inscrire plus tard</p>
 
 <p> L’Equipage (5 max par
 voiture)</p>
 
 <p>Nom d’equipe (soyez creatifs !) :
 ____________________</p>
 
 <p>Nom du « Capitaine » (referent) :
 1.___________________</p>
 
 <p>Prenoms, noms des
 Coequipiers:</p>
 
 <p>2.___________</p>
 
 <p>3.
 ___________</p>
 
 <p>4.____________</p>
 
 <p>5.____________</p>
 
 <p>️
 Logistique&Securite</p>
 
 <p>Numeros de telephone
 portable :</p>
 
 <p>- du capitaine (charge le jour
 J) :</p>
 
 <p>…………….</p>
 
 <p>- du
 copilote :</p>
 
 <p>…………….</p>
 
 <p> </p>
URL;VALUE=URI:https://www.vagueasete.com/evenements/2026/05/23/rallye-surprise-va7-2438012
END:VEVENT
END:VCALENDAR
